BEGIN:VCALENDAR
VERSION:2.0
PRODID:-//ProSolve - ECPv6.15.20//NONSGML v1.0//EN
CALSCALE:GREGORIAN
METHOD:PUBLISH
X-WR-CALNAME:ProSolve
X-ORIGINAL-URL:https://prosolve.com
X-WR-CALDESC:Events for ProSolve
REFRESH-INTERVAL;VALUE=DURATION:PT1H
X-Robots-Tag:noindex
X-PUBLISHED-TTL:PT1H
BEGIN:VTIMEZONE
TZID:America/Los_Angeles
BEGIN:DAYLIGHT
TZOFFSETFROM:-0800
TZOFFSETTO:-0700
TZNAME:PDT
DTSTART:20240310T100000
END:DAYLIGHT
BEGIN:STANDARD
TZOFFSETFROM:-0700
TZOFFSETTO:-0800
TZNAME:PST
DTSTART:20241103T090000
END:STANDARD
BEGIN:DAYLIGHT
TZOFFSETFROM:-0800
TZOFFSETTO:-0700
TZNAME:PDT
DTSTART:20250309T100000
END:DAYLIGHT
BEGIN:STANDARD
TZOFFSETFROM:-0700
TZOFFSETTO:-0800
TZNAME:PST
DTSTART:20251102T090000
END:STANDARD
BEGIN:DAYLIGHT
TZOFFSETFROM:-0800
TZOFFSETTO:-0700
TZNAME:PDT
DTSTART:20260308T100000
END:DAYLIGHT
BEGIN:STANDARD
TZOFFSETFROM:-0700
TZOFFSETTO:-0800
TZNAME:PST
DTSTART:20261101T090000
END:STANDARD
END:VTIMEZONE
BEGIN:VTIMEZONE
TZID:America/New_York
BEGIN:DAYLIGHT
TZOFFSETFROM:-0500
TZOFFSETTO:-0400
TZNAME:EDT
DTSTART:20230312T070000
END:DAYLIGHT
BEGIN:STANDARD
TZOFFSETFROM:-0400
TZOFFSETTO:-0500
TZNAME:EST
DTSTART:20231105T060000
END:STANDARD
BEGIN:DAYLIGHT
TZOFFSETFROM:-0500
TZOFFSETTO:-0400
TZNAME:EDT
DTSTART:20240310T070000
END:DAYLIGHT
BEGIN:STANDARD
TZOFFSETFROM:-0400
TZOFFSETTO:-0500
TZNAME:EST
DTSTART:20241103T060000
END:STANDARD
BEGIN:DAYLIGHT
TZOFFSETFROM:-0500
TZOFFSETTO:-0400
TZNAME:EDT
DTSTART:20250309T070000
END:DAYLIGHT
BEGIN:STANDARD
TZOFFSETFROM:-0400
TZOFFSETTO:-0500
TZNAME:EST
DTSTART:20251102T060000
END:STANDARD
BEGIN:DAYLIGHT
TZOFFSETFROM:-0500
TZOFFSETTO:-0400
TZNAME:EDT
DTSTART:20260308T070000
END:DAYLIGHT
BEGIN:STANDARD
TZOFFSETFROM:-0400
TZOFFSETTO:-0500
TZNAME:EST
DTSTART:20261101T060000
END:STANDARD
END:VTIMEZONE
BEGIN:VEVENT
DTSTART;TZID=America/Los_Angeles:20251112T130000
DTEND;TZID=America/Los_Angeles:20251112T140000
DTSTAMP:20260423T144942
CREATED:20250924T190932Z
LAST-MODIFIED:20250924T191412Z
UID:2966-1762952400-1762956000@prosolve.com
SUMMARY:The Human Advantage
DESCRIPTION:ProSolve Webinar Series: Future-Ready Schools\nHuman Skills in the Age of AI\nThe future of education is human. In this four-part leadership webinar series\, ProSolve explores how schools can strengthen human skills\, leverage AI with purpose\, and rethink assessment to prepare every student for success in a rapidly changing world. Join us to gain tools\, frameworks\, and real-world examples that will transform the way you lead learning in your district.  \n\nWebinar 1: The Human Advantage\nWhy Human Skills Matter\nAs AI reshapes the future of work\, the demand for strong human skills has never been greater. In this session\, we’ll dive into ProSolve’s Human Skills Framework and explore why competencies like adaptability\, communication\, and empathy are essential. Hear directly from a district leader about the real-world impact of prioritizing these skills. Then\, join peers in reflective discussions about current gaps and opportunities. Leave with our Human Skills Starter Toolkit and practical ideas to drive change in your district.
URL:https://prosolve.com/event/webinar-1-the-human-advantage/
LOCATION:TX
CATEGORIES:Webinar
ORGANIZER;CN="ProSolve":MAILTO:info@prosolve.com
END:VEVENT
BEGIN:VEVENT
DTSTART;VALUE=DATE:20250429
DTEND;VALUE=DATE:20250503
DTSTAMP:20260423T144942
CREATED:20240917T152231Z
LAST-MODIFIED:20240918T115706Z
UID:1879-1745884800-1746230399@prosolve.com
SUMMARY:BOOST Conference 2025
DESCRIPTION:Join ProSolve at Booth #713 & 715! \nThe largest\, most recognized\, and comprehensive global convening for after school\, expanded learning\, and in and out-of-school time professionals. Set in a retreat-like atmosphere\, this annual\, extraordinary event will rejuvenate your passion\, boost your direction for quality programming and provide tools and resources that will inspire you to create change.
URL:https://prosolve.com/event/boost-conference-2025/
LOCATION:Palm Springs Convention Center\, 277 N Avenida Caballeros\, Palm Springs\, CA\, 92262\, United States
CATEGORIES:Conference
ATTACH;FMTTYPE=image/png:https://prosolve.com/wp-content/uploads/2024/09/BOOST_Conference_logo_for_web.png
END:VEVENT
BEGIN:VEVENT
DTSTART;VALUE=DATE:20250309
DTEND;VALUE=DATE:20250313
DTSTAMP:20260423T144942
CREATED:20240917T151926Z
LAST-MODIFIED:20240918T122722Z
UID:1875-1741478400-1741823999@prosolve.com
SUMMARY:National Afterschool Association Convention 2025
DESCRIPTION:Join ProSolve at Booth #711! \nCelebrate yourself and others at NAA 2025 Convention from March 9-12\, 2025 at the Gaylord Opryland Resort & Convention Center in Nashville\, Tennessee! \n\nLearn & Connect: Afterschool professionals will be recognized in their work and gain practical tips\, proven strategies\, and new ideas at NAA25. Every learning session values human connection and inspired learning. NAA Convention is an inclusive community where afterschool professionals learn\, play\, and advocate for ourselves\, each other\, and our profession.\nBe Inspired: Experience vibrant Nashville\, Tennessee! The Opryland Resort & Convention Center reflects the city’s unparalleled music and entertainment offerings less than 20 minutes from downtown Nashville. Join us for an unforgettable experience!
URL:https://prosolve.com/event/national-afterschool-association-convention-2025/
LOCATION:Gaylord Opryland Resort & Convention Center\, 2800 Opryland Drive\, Nashville\, TN\, 37214\, United States
CATEGORIES:Conference
ATTACH;FMTTYPE=image/png:https://prosolve.com/wp-content/uploads/2024/09/e8b0d6382f190e238de090d23e662558_NAA25-Full-Logo-For-Light.png
END:VEVENT
BEGIN:VEVENT
DTSTART;VALUE=DATE:20250219
DTEND;VALUE=DATE:20250221
DTSTAMP:20260423T144942
CREATED:20240917T151650Z
LAST-MODIFIED:20240918T122316Z
UID:1871-1739923200-1740095999@prosolve.com
SUMMARY:CISC Leadership Symposium
DESCRIPTION:The CISC Leadership Symposium has always been a space for educators throughout California to connect\, collaborate\, and learn. Join us in Anaheim in 2025 to discover how best to inspire transformation\, ignite leadership\, innovate teaching & learning\, and impact equity. The 2025 symposium will be packed full of memorable experiences\, implementable practices and more.
URL:https://prosolve.com/event/cisc-leadership-symposium/
LOCATION:Hilton Anaheim Hotel\, 777 Convention Way\, Anaheim\, CA\, 92802\, United States
CATEGORIES:Conference
ATTACH;FMTTYPE=image/webp:https://prosolve.com/wp-content/uploads/2024/09/CISC24.webp
END:VEVENT
BEGIN:VEVENT
DTSTART;VALUE=DATE:20250213
DTEND;VALUE=DATE:20250217
DTSTAMP:20260423T144942
CREATED:20240917T151250Z
LAST-MODIFIED:20240918T122202Z
UID:1867-1739404800-1739750399@prosolve.com
SUMMARY:Beyond School Hours 2025
DESCRIPTION:Our conference provides vital professional development opportunities for educators and leaders working with students of all ages\, across the learning day\, all across America. \nRefresh\, renew\, and have fun connecting with peers and experts. Take home skills\, tools\, and a renewed passion for improving learning outcomes for young people across the entire day.
URL:https://prosolve.com/event/beyond-school-hours-2025/
LOCATION:Rosen Centre\, 9840 International Dr\, Orlando\, FL\, 32819\, United States
CATEGORIES:Conference
ATTACH;FMTTYPE=image/png:https://prosolve.com/wp-content/uploads/2024/09/cropped-bsh2025-social-share.png
END:VEVENT
BEGIN:VEVENT
DTSTART;VALUE=DATE:20250201
DTEND;VALUE=DATE:20250205
DTSTAMP:20260423T144942
CREATED:20240917T150904Z
LAST-MODIFIED:20240918T122442Z
UID:1862-1738368000-1738713599@prosolve.com
SUMMARY:TCEA 2025
DESCRIPTION:Join ProSolve at Booth #1739! \nWant to increase efficiency and save time\, boost results through improved instruction\, support teaching and learning in innovative new ways\, and more? Hand-pick your learning from hundreds of sessions\, speakers\, and exhibitors at TCEA’s Convention & Exposition\, the ultimate educator conference. \nGrow knowledge and skills related to the hot topics\, tools\, and takeaways that will have the biggest impact on your work. Then\, get ready for better-than-ever outcomes that reflect not only your expertise and skillfulness\, but also your deep impact on instruction\, learning\, and students’ lives. Because\, ultimately\, your success leads to student success\, no matter your role in education.
URL:https://prosolve.com/event/tcea-2025/
LOCATION:Austin Convention Center\, 500 E. Cesar Chavez St\, Austin\, TX\, 78701\, United States
CATEGORIES:Conference
ATTACH;FMTTYPE=image/jpeg:https://prosolve.com/wp-content/uploads/2024/09/TCEA-2024.jpg
END:VEVENT
BEGIN:VEVENT
DTSTART;VALUE=DATE:20250126
DTEND;VALUE=DATE:20250130
DTSTAMP:20260423T144942
CREATED:20240917T150000Z
LAST-MODIFIED:20240918T121801Z
UID:1857-1737849600-1738195199@prosolve.com
SUMMARY:TASA Midwinter Conference
DESCRIPTION:The TASA Midwinter Conference has become the most popular conference of the year for Texas school leaders because it provides a valuable opportunity to come together to discuss and share innovative practices\, network with peers\, address the administrative issues administrators face every day\, and gain fresh insights.
URL:https://prosolve.com/event/tasa-midwinter-conference/
LOCATION:Austin Convention Center\, 500 E. Cesar Chavez St\, Austin\, TX\, 78701\, United States
CATEGORIES:Conference
ATTACH;FMTTYPE=image/jpeg:https://prosolve.com/wp-content/uploads/2024/09/TASA-2024.jpg
END:VEVENT
BEGIN:VEVENT
DTSTART;TZID=America/New_York:20241124T153000
DTEND;TZID=America/New_York:20241124T161500
DTSTAMP:20260423T144942
CREATED:20240918T114533Z
LAST-MODIFIED:20240918T114533Z
UID:1916-1732462200-1732464900@prosolve.com
SUMMARY:NYSCATE Session: Human Intelligence for an AI world Keynote with CEO Travis Allen
DESCRIPTION:Imagine a future where our students don’t just survive but thrive alongside AI\, driven by the one thing machines can never replicate: Human Intelligence. We stand at a tipping point as artificial intelligence revolutionizes our workforce\, demanding a radical shift in the skills we value. As AI takes over mundane tasks\, humans will be freed to conquer complex\, creative challenges. But here’s the shocking truth: students are unprepared for this AI-dominated world. Our education system must urgently pivot to prioritize cultivating Human Intelligence\, critical thinking\, creative problem-solving\, empathetic relationship-building\, and effective communication. It’s not just about keeping up; it’s about leading with intellectual agility\, emotional wisdom\, and moral courage. This is a call to action. Join us in revolutionizing education and unlocking the boundless potential of our students to not just coexist but excel in an AI-powered world. Be part of this transformative journey\, the Human Intelligence Movement.
URL:https://prosolve.com/event/nyscate-session-human-intelligence-for-an-ai-world-keynote-with-ceo-travis-allen/
LOCATION:Turning Stone Resort and Conference Center\, 5218 Patrick Rd\, Verona\, NY\, 13478\, United States
CATEGORIES:Keynote
ATTACH;FMTTYPE=image/png:https://prosolve.com/wp-content/uploads/2024/09/Travis-headshot.png
END:VEVENT
BEGIN:VEVENT
DTSTART;TZID=America/New_York:20241124T123000
DTEND;TZID=America/New_York:20241124T143000
DTSTAMP:20260423T144942
CREATED:20240918T112710Z
LAST-MODIFIED:20240918T114906Z
UID:1913-1732451400-1732458600@prosolve.com
SUMMARY:NYSCATE Session: Unlock Human Intelligence
DESCRIPTION:Let’s unlock the powerful synergy between AI and human-centered learning! Join us as we dial up the energy and activate your critical thinking\, collaboration\, and communication in this immersive and hands-on experience. Your team will quickly build synergy as you leverage your human-centered skills to tackle game-based problem-solving challenges\, unleashing your creative potential. This session will not only leave you inspired about the impact of experiential learning\, but you’ll build trusting\, collaborative relationships with your team of colleagues\, all while having a ton of fun!
URL:https://prosolve.com/event/nyscate-session-unlock-human-intelligence/
LOCATION:Turning Stone Resort and Conference Center\, 5218 Patrick Rd\, Verona\, NY\, 13478\, United States
CATEGORIES:Session/Workshop
ATTACH;FMTTYPE=image/jpeg:https://prosolve.com/wp-content/uploads/2024/09/IMG_3997-frame-at-0m1s.jpg
END:VEVENT
BEGIN:VEVENT
DTSTART;TZID=America/New_York:20241124T090000
DTEND;TZID=America/New_York:20241124T094500
DTSTAMP:20260423T144942
CREATED:20240918T112523Z
LAST-MODIFIED:20240918T112523Z
UID:1910-1732438800-1732441500@prosolve.com
SUMMARY:NYSCATE Session: The Human Intelligence Movement: Igniting Human Potential for our AI World
DESCRIPTION:Are you ready to spark a transformation in education and redefine human-centered learning? Join us on this exhilarating journey to unleash the full potential of Human Intelligence for an AI world. Don’t just adapt to this AI revolution; join the movement and help lead it! This isn’t just another conference session – it’s a call to shape the future of education with the Human Intelligence Movement. We need your voice\, your ideas\, and your passion! \nIn this interactive session\, let’s: \n\nRedefine Career Readiness: Shatter outdated paradigms and craft a visionary blueprint for success in the AI age.\nUnlock Human Superpowers: Dive deep into strategies to build critical thinking\, creativity\, empathy\, and communication skills that will set our students apart in an automated world.\nIgnite Educational Evolution: Become a catalyst for change and help shape a future where students thrive amidst AI advancements. The time is now\, and your participation is crucial.\n\nAt the heart of this session lies a powerful\, interactive roundtable discussion designed to harness the collective wisdom of all participants. This isn’t a passive lecture – it’s a vibrant exchange of ideas where your voice matters. Come prepared to share\, listen\, and co-create solutions that will resonate far beyond the conference walls. \nTogether\, we’ll forge a new path for career readiness in the AI era. Don’t miss this opportunity to be part of a transformative dialogue that could redefine the educational landscape for years to come.
URL:https://prosolve.com/event/nyscate-session-the-human-intelligence-movement-igniting-human-potential-for-our-ai-world/
LOCATION:Turning Stone Resort and Conference Center\, 5218 Patrick Rd\, Verona\, NY\, 13478\, United States
CATEGORIES:Session/Workshop
END:VEVENT
BEGIN:VEVENT
DTSTART;VALUE=DATE:20241124
DTEND;VALUE=DATE:20241127
DTSTAMP:20260423T144942
CREATED:20240917T144024Z
LAST-MODIFIED:20240918T115421Z
UID:1848-1732406400-1732665599@prosolve.com
SUMMARY:NYSCATE 2024
DESCRIPTION:Each year NYSCATE sponsors an annual statewide conference attended by 1\,500 attendees and 150+ exhibitors showcasing exemplary education applications of technology. Over 120 presentations by teachers and technology experts are given over the three-day period. NYSCATE recruits keynote speakers who are respected experts in their fields. This year will be new and exciting! We are featuring Spotlight Speakers\, Playgrounds\, many surprises and numerous after hour activities to keep you engaged and entertained throughout the event.  Everything will be in an at the Turning Stone Resort and Conference Center in Verona\, New York! \nOur Sessions:\nThe Human Intelligence Movement: Igniting Human Potential for our AI World\nNov. 24 @ 9:00am \nUnlock Human Intelligence\nNov. 24 @ 12:30pm \nHuman Intelligence for an AI world Keynote with CEO Travis Allen\nNov. 24 @ 3:30pm
URL:https://prosolve.com/event/nyscate-2024/
LOCATION:Turning Stone Resort and Conference Center\, 5218 Patrick Rd\, Verona\, NY\, 13478\, United States
CATEGORIES:Conference
ATTACH;FMTTYPE=image/jpeg:https://prosolve.com/wp-content/uploads/2024/09/NYSCATE-2023.jpg
END:VEVENT
BEGIN:VEVENT
DTSTART;TZID=America/New_York:20241113T131500
DTEND;TZID=America/New_York:20241113T134500
DTSTAMP:20260423T144942
CREATED:20240917T174639Z
LAST-MODIFIED:20240917T175110Z
UID:1895-1731503700-1731505500@prosolve.com
SUMMARY:SEL Exchange Sponsored Session: Learning\, Experienced!: The Modern SEL Approach
DESCRIPTION:Location: E253CD \nBooth #: 416 \nDescription: Unlock the power of experiential learning and watch your students’ social-emotional wellness soar. This interactive session introduces a modern SEL approach that breaks free from traditional methods. Discover innovative ways to bring social-emotional learning to life\, boost academic achievement\, and foster inclusivity. Gain a fresh perspective on SEL instruction grounded in real-world applications\, hands-on techniques\, and reflective practices. Leave with practical strategies to nurture whole-child learning and transform your SEL teaching approach.
URL:https://prosolve.com/event/sponsored-learning-experienced-the-modern-sel-approach/
LOCATION:TX
CATEGORIES:Session/Workshop
END:VEVENT
BEGIN:VEVENT
DTSTART;VALUE=DATE:20241112
DTEND;VALUE=DATE:20241115
DTSTAMP:20260423T144942
CREATED:20240917T173156Z
LAST-MODIFIED:20240918T121555Z
UID:1884-1731369600-1731628799@prosolve.com
SUMMARY:SEL Exchange
DESCRIPTION:Join ProSolve at Booth #416! \nHosted by the Collaborative for Academic\, Social\, and Emotional Learning (CASEL)\, the SEL Exchange is a one-of-a-kind opportunity to connect and learn with innovators\, educators\, researchers\, policy leaders\, and youth from around the world. \nOur Sessions:\nSponsored: Learning\, Experienced!: The Modern SEL Approach\nNov. 13 @ 1:15pm \n 
URL:https://prosolve.com/event/sel-exchange/
LOCATION:TX
CATEGORIES:Conference
ATTACH;FMTTYPE=image/png:https://prosolve.com/wp-content/uploads/2024/09/SEL_Exchange_Logo.png
END:VEVENT
BEGIN:VEVENT
DTSTART;VALUE=DATE:20241111
DTEND;VALUE=DATE:20241114
DTSTAMP:20260423T144942
CREATED:20240917T122743Z
LAST-MODIFIED:20240918T121431Z
UID:1806-1731283200-1731542399@prosolve.com
SUMMARY:National Summer Learning Association Summer Learning Summit
DESCRIPTION:Summer Learning Summit is the only conference exclusively focused on summer learning. The conference will provide attendees insights and solutions into the evolution of the field from closing academic achievement gaps to now addressing opportunity gaps and fostering social-emotional learning.
URL:https://prosolve.com/event/national-summer-learning-association-summer-learning-summit/
LOCATION:TX
CATEGORIES:Conference
ATTACH;FMTTYPE=image/jpeg:https://prosolve.com/wp-content/uploads/2024/09/nsla-2023.jpg
END:VEVENT
END:VCALENDAR